BEGIN:VCALENDAR
VERSION:2.0
PRODID:-//Drupal iCal API//EN
X-WR-TIMEZONE:America/Vancouver
BEGIN:VTIMEZONE
TZID:America/Vancouver
X-LIC-LOCATION:America/Vancouver
BEGIN:DAYLIGHT
TZNAME:PDT
TZOFFSETFROM:-0800
TZOFFSETTO:-0700
DTSTART:20260308T100000
END:DAYLIGHT
BEGIN:DAYLIGHT
TZNAME:PDT
TZOFFSETFROM:-0800
TZOFFSETTO:-0700
DTSTART:20250309T100000
END:DAYLIGHT
BEGIN:STANDARD
TZNAME:PST
TZOFFSETFROM:-0700
TZOFFSETTO:-0800
DTSTART:20251102T090000
END:STANDARD
BEGIN:STANDARD
TZNAME:PST
TZOFFSETFROM:-0700
TZOFFSETTO:-0800
DTSTART:20241103T090000
END:STANDARD
END:VTIMEZONE
BEGIN:VEVENT
UID:69ea53baa8837
DTSTART;TZID=America/Vancouver:20260506T183000
SEQUENCE:0
TRANSP:TRANSPARENT
DTEND;TZID=America/Vancouver:20260506T193000
URL:https://sumasmountain.abbyschools.ca/events/grad-2027-parent-meeting
SUMMARY:GRAD 2027 PARENT MEETING
CLASS:PUBLIC
DTSTAMP:20260423T171539Z
END:VEVENT
BEGIN:VEVENT
UID:69ea53baaf3c5
DTSTART;VALUE=DATE:20260521
SEQUENCE:0
TRANSP:TRANSPARENT
DTEND;VALUE=DATE:20260522
URL:https://sumasmountain.abbyschools.ca/events/drama-troupe-star-fest
SUMMARY:DRAMA TROUPE STAR FEST
CLASS:PUBLIC
X-MICROSOFT-CDO-ALLDAYEVENT:TRUE
DTSTAMP:20260423T171539Z
END:VEVENT
BEGIN:VEVENT
UID:69ea53bab1613
DTSTART;VALUE=DATE:20260522
SEQUENCE:0
TRANSP:TRANSPARENT
DTEND;VALUE=DATE:20260523
URL:https://sumasmountain.abbyschools.ca/events/drama-troupe-star-fest
SUMMARY:DRAMA TROUPE STAR FEST
CLASS:PUBLIC
X-MICROSOFT-CDO-ALLDAYEVENT:TRUE
DTSTAMP:20260423T171539Z
END:VEVENT
BEGIN:VEVENT
UID:69ea53bab37d8
DTSTART;VALUE=DATE:20260523
SEQUENCE:0
TRANSP:TRANSPARENT
DTEND;VALUE=DATE:20260524
URL:https://sumasmountain.abbyschools.ca/events/drama-troupe-star-fest
SUMMARY:DRAMA TROUPE STAR FEST
CLASS:PUBLIC
X-MICROSOFT-CDO-ALLDAYEVENT:TRUE
DTSTAMP:20260423T171539Z
END:VEVENT
BEGIN:VEVENT
UID:69ea53bab5514
DTSTART;VALUE=DATE:20260521
SEQUENCE:0
TRANSP:TRANSPARENT
DTEND;VALUE=DATE:20260522
URL:https://sumasmountain.abbyschools.ca/events/drama-troupe-star-fest
SUMMARY:DRAMA TROUPE STAR FEST
CLASS:PUBLIC
X-MICROSOFT-CDO-ALLDAYEVENT:TRUE
DTSTAMP:20260423T171539Z
END:VEVENT
BEGIN:VEVENT
UID:69ea53bab7444
DTSTART;VALUE=DATE:20260522
SEQUENCE:0
TRANSP:TRANSPARENT
DTEND;VALUE=DATE:20260523
URL:https://sumasmountain.abbyschools.ca/events/drama-troupe-star-fest
SUMMARY:DRAMA TROUPE STAR FEST
CLASS:PUBLIC
X-MICROSOFT-CDO-ALLDAYEVENT:TRUE
DTSTAMP:20260423T171539Z
END:VEVENT
BEGIN:VEVENT
UID:69ea53bab941f
DTSTART;VALUE=DATE:20260523
SEQUENCE:0
TRANSP:TRANSPARENT
DTEND;VALUE=DATE:20260524
URL:https://sumasmountain.abbyschools.ca/events/drama-troupe-star-fest
SUMMARY:DRAMA TROUPE STAR FEST
CLASS:PUBLIC
X-MICROSOFT-CDO-ALLDAYEVENT:TRUE
DTSTAMP:20260423T171539Z
END:VEVENT
BEGIN:VEVENT
UID:69ea53babad40
DTSTART;VALUE=DATE:20260521
SEQUENCE:0
TRANSP:TRANSPARENT
DTEND;VALUE=DATE:20260522
URL:https://sumasmountain.abbyschools.ca/events/drama-troupe-star-fest
SUMMARY:DRAMA TROUPE STAR FEST
CLASS:PUBLIC
X-MICROSOFT-CDO-ALLDAYEVENT:TRUE
DTSTAMP:20260423T171539Z
END:VEVENT
BEGIN:VEVENT
UID:69ea53babd21e
DTSTART;VALUE=DATE:20260522
SEQUENCE:0
TRANSP:TRANSPARENT
DTEND;VALUE=DATE:20260523
URL:https://sumasmountain.abbyschools.ca/events/drama-troupe-star-fest
SUMMARY:DRAMA TROUPE STAR FEST
CLASS:PUBLIC
X-MICROSOFT-CDO-ALLDAYEVENT:TRUE
DTSTAMP:20260423T171539Z
END:VEVENT
BEGIN:VEVENT
UID:69ea53babf297
DTSTART;VALUE=DATE:20260523
SEQUENCE:0
TRANSP:TRANSPARENT
DTEND;VALUE=DATE:20260524
URL:https://sumasmountain.abbyschools.ca/events/drama-troupe-star-fest
SUMMARY:DRAMA TROUPE STAR FEST
CLASS:PUBLIC
X-MICROSOFT-CDO-ALLDAYEVENT:TRUE
DTSTAMP:20260423T171539Z
END:VEVENT
BEGIN:VEVENT
UID:69ea53bac0e4f
DTSTART;VALUE=DATE:20260521
SEQUENCE:0
TRANSP:TRANSPARENT
DTEND;VALUE=DATE:20260522
URL:https://sumasmountain.abbyschools.ca/events/physics-field-trip
SUMMARY:PHYSICS FIELD TRIP
CLASS:PUBLIC
X-MICROSOFT-CDO-ALLDAYEVENT:TRUE
DTSTAMP:20260423T171539Z
END:VEVENT
BEGIN:VEVENT
UID:69ea53bac3205
DTSTART;VALUE=DATE:20260423
SEQUENCE:0
TRANSP:TRANSPARENT
DTEND;VALUE=DATE:20260424
URL:https://sumasmountain.abbyschools.ca/events/grade-78-field-trip-library
 civic-centre
SUMMARY:GRADE 7/8 FIELD TRIP TO LIBRARY/CIVIC CENTRE
CLASS:PUBLIC
X-MICROSOFT-CDO-ALLDAYEVENT:TRUE
DTSTAMP:20260423T171539Z
END:VEVENT
BEGIN:VEVENT
UID:69ea53bac50db
DTSTART;TZID=America/Vancouver:20260618T190000
SEQUENCE:0
TRANSP:TRANSPARENT
DTEND;TZID=America/Vancouver:20260618T200000
URL:https://sumasmountain.abbyschools.ca/events/pac-meeting-334
SUMMARY:PAC MEETING
CLASS:PUBLIC
DTSTAMP:20260423T171539Z
END:VEVENT
BEGIN:VEVENT
UID:69ea53bac6eb2
DTSTART;VALUE=DATE:20260507
SEQUENCE:0
TRANSP:TRANSPARENT
DTEND;VALUE=DATE:20260508
URL:https://sumasmountain.abbyschools.ca/events/secondary-dance-field-trip
SUMMARY:SECONDARY DANCE FIELD TRIP
CLASS:PUBLIC
X-MICROSOFT-CDO-ALLDAYEVENT:TRUE
DTSTAMP:20260423T171539Z
END:VEVENT
BEGIN:VEVENT
UID:69ea53bac86b1
DTSTART;TZID=America/Vancouver:20260505T190000
SEQUENCE:0
TRANSP:TRANSPARENT
DTEND;TZID=America/Vancouver:20260505T200000
URL:https://sumasmountain.abbyschools.ca/events/pac-meeting-333
SUMMARY:PAC MEETING
CLASS:PUBLIC
DTSTAMP:20260423T171539Z
END:VEVENT
BEGIN:VEVENT
UID:69ea53baca4a4
DTSTART;VALUE=DATE:20260428
SEQUENCE:0
TRANSP:TRANSPARENT
DTEND;VALUE=DATE:20260429
URL:https://sumasmountain.abbyschools.ca/events/secondary-learning-updates-
 available
SUMMARY:SECONDARY LEARNING UPDATES AVAILABLE
CLASS:PUBLIC
X-MICROSOFT-CDO-ALLDAYEVENT:TRUE
DTSTAMP:20260423T171539Z
END:VEVENT
BEGIN:VEVENT
UID:69ea53bacbd1b
DTSTART;TZID=America/Vancouver:20260423T180000
SEQUENCE:0
TRANSP:TRANSPARENT
DTEND;TZID=America/Vancouver:20260423T210000
URL:https://sumasmountain.abbyschools.ca/events/drama-troupe-fundraiser
SUMMARY:DRAMA TROUPE FUNDRAISER
CLASS:PUBLIC
DTSTAMP:20260423T171539Z
END:VEVENT
BEGIN:VEVENT
UID:69ea53bacdb4a
DTSTART;TZID=America/Vancouver:20260402T173000
SEQUENCE:0
TRANSP:TRANSPARENT
DTEND;TZID=America/Vancouver:20260402T183000
URL:https://sumasmountain.abbyschools.ca/events/public-budget-information-n
 ight
SUMMARY:PUBLIC BUDGET INFORMATION NIGHT
CLASS:PUBLIC
DTSTAMP:20260423T171539Z
END:VEVENT
BEGIN:VEVENT
UID:69ea53bacf41c
DTSTART;TZID=America/Vancouver:20260515T183000
SEQUENCE:0
TRANSP:TRANSPARENT
DTEND;TZID=America/Vancouver:20260515T213000
URL:https://sumasmountain.abbyschools.ca/events/woods-evening-performance-0
SUMMARY:INTO THE WOODS (WILHELMS CAST) EVENING PERFORMANCE
CLASS:PUBLIC
DTSTAMP:20260423T171539Z
END:VEVENT
BEGIN:VEVENT
UID:69ea53bad1572
DTSTART;TZID=America/Vancouver:20260515T103000
SEQUENCE:0
TRANSP:TRANSPARENT
DTEND;TZID=America/Vancouver:20260515T133000
URL:https://sumasmountain.abbyschools.ca/events/woods-matinee-performance
SUMMARY:INTO THE WOODS (JAKOBS CAST) MATINEE PERFORMANCE
CLASS:PUBLIC
DTSTAMP:20260423T171539Z
END:VEVENT
BEGIN:VEVENT
UID:69ea53bad3032
DTSTART;TZID=America/Vancouver:20260514T183000
SEQUENCE:0
TRANSP:TRANSPARENT
DTEND;TZID=America/Vancouver:20260514T213000
URL:https://sumasmountain.abbyschools.ca/events/woods-evening-performance
SUMMARY:INTO THE WOODS (JAKOBS CAST) EVENING PERFORMANCE
CLASS:PUBLIC
DTSTAMP:20260423T171539Z
END:VEVENT
BEGIN:VEVENT
UID:69ea53bad496b
DTSTART;TZID=America/Vancouver:20260514T100000
SEQUENCE:0
TRANSP:TRANSPARENT
DTEND;TZID=America/Vancouver:20260514T133000
URL:https://sumasmountain.abbyschools.ca/events/woods-school-performance-al
 l-studentsstaff-attending
SUMMARY:INTO THE WOODS (WILHELMS CAST) - SCHOOL PERFORMANCE - ALL STUDENTS/
 STAFF ATTENDING
CLASS:PUBLIC
DTSTAMP:20260423T171539Z
END:VEVENT
BEGIN:VEVENT
UID:69ea53bad672e
DTSTART;TZID=America/Vancouver:20260511T190000
SEQUENCE:0
TRANSP:TRANSPARENT
DTEND;TZID=America/Vancouver:20260511T210000
URL:https://sumasmountain.abbyschools.ca/events/exploring-feel-better-dr-sh
 ahana-alibhai
SUMMARY:EXPLORING \"FEEL BETTER\" WITH DR. SHAHANA ALIBHAI
CLASS:PUBLIC
DTSTAMP:20260423T171539Z
END:VEVENT
BEGIN:VEVENT
UID:69ea53bad88a7
DTSTART;TZID=America/Vancouver:20260408T183000
SEQUENCE:0
TRANSP:TRANSPARENT
DTEND;TZID=America/Vancouver:20260408T210000
URL:https://sumasmountain.abbyschools.ca/events/study-smarter-not-harder-yo
 ur-brain-mind-terry-small
SUMMARY:\"STUDY SMARTER\, NOT HARDER… WITH YOUR BRAIN IN MIND” - TERRY 
 SMALL
CLASS:PUBLIC
DTSTAMP:20260423T171539Z
END:VEVENT
BEGIN:VEVENT
UID:69ea53bada809
DTSTART;TZID=America/Vancouver:20260223T190000
SEQUENCE:0
TRANSP:TRANSPARENT
DTEND;TZID=America/Vancouver:20260223T210000
URL:https://sumasmountain.abbyschools.ca/events/bullying-new-approach-endur
 ing-problem-deborah-macnamara
SUMMARY:\"BULLYING - A NEW APPROACH TO AN ENDURING PROBLEM\" - DEBORAH MACN
 AMARA
CLASS:PUBLIC
DTSTAMP:20260423T171539Z
END:VEVENT
BEGIN:VEVENT
UID:69ea53badc75c
DTSTART;TZID=America/Vancouver:20260625T090000
SEQUENCE:0
TRANSP:TRANSPARENT
DTEND;TZID=America/Vancouver:20260625T110000
URL:https://sumasmountain.abbyschools.ca/events/awards-morning
SUMMARY:AWARDS MORNING
CLASS:PUBLIC
DTSTAMP:20260423T171539Z
END:VEVENT
BEGIN:VEVENT
UID:69ea53bade5dc
DTSTART;VALUE=DATE:20260624
SEQUENCE:0
TRANSP:TRANSPARENT
DTEND;VALUE=DATE:20260625
URL:https://sumasmountain.abbyschools.ca/events/gr-8-celebration-day
SUMMARY:GR 8 CELEBRATION DAY
CLASS:PUBLIC
X-MICROSOFT-CDO-ALLDAYEVENT:TRUE
DTSTAMP:20260423T171539Z
END:VEVENT
BEGIN:VEVENT
UID:69ea53bae0afa
DTSTART;VALUE=DATE:20260622
SEQUENCE:0
TRANSP:TRANSPARENT
DTEND;VALUE=DATE:20260624
URL:https://sumasmountain.abbyschools.ca/events/learning-enhancement-days-s
 econdary-credit-recovery
SUMMARY:LEARNING ENHANCEMENT DAYS (SECONDARY CREDIT RECOVERY)
CLASS:PUBLIC
X-MICROSOFT-CDO-ALLDAYEVENT:TRUE
DTSTAMP:20260423T171539Z
END:VEVENT
BEGIN:VEVENT
UID:69ea53bae2f12
DTSTART;TZID=America/Vancouver:20260618T083000
SEQUENCE:0
TRANSP:TRANSPARENT
DTEND;TZID=America/Vancouver:20260618T120000
URL:https://sumasmountain.abbyschools.ca/events/numeracy-10-grad-assessment
 -0
SUMMARY:NUMERACY 10 GRAD ASSESSMENT
CLASS:PUBLIC
DTSTAMP:20260423T171539Z
END:VEVENT
BEGIN:VEVENT
UID:69ea53bae4bdc
DTSTART;TZID=America/Vancouver:20260617T083000
SEQUENCE:0
TRANSP:TRANSPARENT
DTEND;TZID=America/Vancouver:20260617T120000
URL:https://sumasmountain.abbyschools.ca/events/literacy-12-grad-assessment
 -0
SUMMARY:LITERACY 12 GRAD ASSESSMENT
CLASS:PUBLIC
DTSTAMP:20260423T171539Z
END:VEVENT
BEGIN:VEVENT
UID:69ea53bae6dd0
DTSTART;TZID=America/Vancouver:20260616T083000
SEQUENCE:0
TRANSP:TRANSPARENT
DTEND;TZID=America/Vancouver:20260616T120000
URL:https://sumasmountain.abbyschools.ca/events/literacy-10-grad-assessment
 -0
SUMMARY:LITERACY 10 GRAD ASSESSMENT
CLASS:PUBLIC
DTSTAMP:20260423T171539Z
END:VEVENT
BEGIN:VEVENT
UID:69ea53bae8a51
DTSTART;TZID=America/Vancouver:20260612T173000
SEQUENCE:0
TRANSP:TRANSPARENT
DTEND;TZID=America/Vancouver:20260612T193000
URL:https://sumasmountain.abbyschools.ca/events/convocation-2026
SUMMARY:CONVOCATION 2026
CLASS:PUBLIC
DTSTAMP:20260423T171539Z
END:VEVENT
BEGIN:VEVENT
UID:69ea53baead07
DTSTART;TZID=America/Vancouver:20260611T183000
SEQUENCE:0
TRANSP:TRANSPARENT
DTEND;TZID=America/Vancouver:20260611T193000
URL:https://sumasmountain.abbyschools.ca/events/dance-company-show
SUMMARY:DANCE COMPANY SHOW
CLASS:PUBLIC
DTSTAMP:20260423T171539Z
END:VEVENT
BEGIN:VEVENT
UID:69ea53baecc8e
DTSTART;VALUE=DATE:20260605
SEQUENCE:0
TRANSP:TRANSPARENT
DTEND;VALUE=DATE:20260606
URL:https://sumasmountain.abbyschools.ca/events/grad-vancouver-day-0
SUMMARY:GRAD VANCOUVER DAY
CLASS:PUBLIC
X-MICROSOFT-CDO-ALLDAYEVENT:TRUE
DTSTAMP:20260423T171539Z
END:VEVENT
BEGIN:VEVENT
UID:69ea53baef63c
DTSTART;TZID=America/Vancouver:20260529T170000
SEQUENCE:0
TRANSP:TRANSPARENT
DTEND;TZID=America/Vancouver:20260529T230000
URL:https://sumasmountain.abbyschools.ca/events/prom-9
SUMMARY:PROM
CLASS:PUBLIC
DTSTAMP:20260423T171539Z
END:VEVENT
BEGIN:VEVENT
UID:69ea53baf1a21
DTSTART;VALUE=DATE:20260528
SEQUENCE:0
TRANSP:TRANSPARENT
DTEND;VALUE=DATE:20260529
URL:https://sumasmountain.abbyschools.ca/events/exhibition-learning-1
SUMMARY:EXHIBITION OF LEARNING
CLASS:PUBLIC
X-MICROSOFT-CDO-ALLDAYEVENT:TRUE
DTSTAMP:20260423T171539Z
END:VEVENT
BEGIN:VEVENT
UID:69ea53baf3e08
DTSTART;VALUE=DATE:20260512
SEQUENCE:0
TRANSP:TRANSPARENT
DTEND;VALUE=DATE:20260516
URL:https://sumasmountain.abbyschools.ca/events/woods-musical-performance
SUMMARY:INTO THE WOODS MUSICAL PERFORMANCE - CAST ATTENDANCE
CLASS:PUBLIC
X-MICROSOFT-CDO-ALLDAYEVENT:TRUE
DTSTAMP:20260423T171539Z
END:VEVENT
BEGIN:VEVENT
UID:69ea53bb023d6
DTSTART;VALUE=DATE:20260423
SEQUENCE:0
TRANSP:TRANSPARENT
DTEND;VALUE=DATE:20260424
URL:https://sumasmountain.abbyschools.ca/events/dogwoodcapstone-presentatio
 n-day
SUMMARY:DOGWOOD/CAPSTONE PRESENTATION DAY
CLASS:PUBLIC
X-MICROSOFT-CDO-ALLDAYEVENT:TRUE
DTSTAMP:20260423T171539Z
END:VEVENT
BEGIN:VEVENT
UID:69ea53bb04959
DTSTART;VALUE=DATE:20260422
SEQUENCE:0
TRANSP:TRANSPARENT
DTEND;VALUE=DATE:20260423
URL:https://sumasmountain.abbyschools.ca/events/earth-day-grade-6
SUMMARY:EARTH DAY - GRADE 6
CLASS:PUBLIC
X-MICROSOFT-CDO-ALLDAYEVENT:TRUE
DTSTAMP:20260423T171539Z
END:VEVENT
BEGIN:VEVENT
UID:69ea53bb06dda
DTSTART;VALUE=DATE:20260410
SEQUENCE:0
TRANSP:TRANSPARENT
DTEND;VALUE=DATE:20260411
URL:https://sumasmountain.abbyschools.ca/events/learning-enhancement-day-se
 condary-credit-recovery-1
SUMMARY:LEARNING ENHANCEMENT DAY (SECONDARY CREDIT RECOVERY)
CLASS:PUBLIC
X-MICROSOFT-CDO-ALLDAYEVENT:TRUE
DTSTAMP:20260423T171539Z
END:VEVENT
BEGIN:VEVENT
UID:69ea53bb08a62
DTSTART;VALUE=DATE:20260407
SEQUENCE:0
TRANSP:TRANSPARENT
DTEND;VALUE=DATE:20260408
URL:https://sumasmountain.abbyschools.ca/events/class-photos-7
SUMMARY:CLASS PHOTOS
CLASS:PUBLIC
X-MICROSOFT-CDO-ALLDAYEVENT:TRUE
DTSTAMP:20260423T171539Z
END:VEVENT
BEGIN:VEVENT
UID:69ea53bb0a3a1
DTSTART;TZID=America/Vancouver:20260306T092000
SEQUENCE:0
TRANSP:TRANSPARENT
DTEND;TZID=America/Vancouver:20260306T110500
URL:https://sumasmountain.abbyschools.ca/events/secondary-careers-morning-3
SUMMARY:SECONDARY CAREERS MORNING
CLASS:PUBLIC
DTSTAMP:20260423T171539Z
END:VEVENT
BEGIN:VEVENT
UID:69ea53bb0c6fa
DTSTART;VALUE=DATE:20260225
SEQUENCE:0
TRANSP:TRANSPARENT
DTEND;VALUE=DATE:20260226
URL:https://sumasmountain.abbyschools.ca/events/pink-shirt-day-34
SUMMARY:PINK SHIRT DAY
CLASS:PUBLIC
X-MICROSOFT-CDO-ALLDAYEVENT:TRUE
DTSTAMP:20260423T171539Z
END:VEVENT
BEGIN:VEVENT
UID:69ea53bb0ecb7
DTSTART;TZID=America/Vancouver:20260224T090000
SEQUENCE:0
TRANSP:TRANSPARENT
DTEND;TZID=America/Vancouver:20260224T110000
URL:https://sumasmountain.abbyschools.ca/events/where-have-all-buffalo-gone
 -performance
SUMMARY:WHERE HAVE ALL THE BUFFALO GONE PERFORMANCE
CLASS:PUBLIC
DTSTAMP:20260423T171539Z
END:VEVENT
BEGIN:VEVENT
UID:69ea53bb11012
DTSTART;VALUE=DATE:20260626
SEQUENCE:0
TRANSP:TRANSPARENT
DTEND;VALUE=DATE:20260627
URL:https://sumasmountain.abbyschools.ca/events/last-day-teachers-1
SUMMARY:LAST DAY FOR TEACHERS
CLASS:PUBLIC
X-MICROSOFT-CDO-ALLDAYEVENT:TRUE
DTSTAMP:20260423T171539Z
END:VEVENT
BEGIN:VEVENT
UID:69ea53bb130c8
DTSTART;VALUE=DATE:20260625
SEQUENCE:0
TRANSP:TRANSPARENT
DTEND;VALUE=DATE:20260626
URL:https://sumasmountain.abbyschools.ca/events/last-day-students-1
SUMMARY:LAST DAY FOR STUDENTS
CLASS:PUBLIC
X-MICROSOFT-CDO-ALLDAYEVENT:TRUE
DTSTAMP:20260423T171539Z
END:VEVENT
BEGIN:VEVENT
UID:69ea53bb15f00
DTSTART;VALUE=DATE:20260316
SEQUENCE:0
TRANSP:TRANSPARENT
DTEND;VALUE=DATE:20260328
URL:https://sumasmountain.abbyschools.ca/events/spring-break-4
SUMMARY:SPRING BREAK
CLASS:PUBLIC
X-MICROSOFT-CDO-ALLDAYEVENT:TRUE
DTSTAMP:20260423T171539Z
END:VEVENT
BEGIN:VEVENT
UID:69ea53bb1bf23
DTSTART;VALUE=DATE:20251217
SEQUENCE:0
TRANSP:TRANSPARENT
DTEND;VALUE=DATE:20251218
URL:https://sumasmountain.abbyschools.ca/events/report-cards-elemmiddle-lev
 els-3
SUMMARY:REPORT CARDS ELEM/MIDDLE LEVELS
CLASS:PUBLIC
X-MICROSOFT-CDO-ALLDAYEVENT:TRUE
DTSTAMP:20260423T171539Z
END:VEVENT
BEGIN:VEVENT
UID:69ea53bb1e096
DTSTART;VALUE=DATE:20260313
SEQUENCE:0
TRANSP:TRANSPARENT
DTEND;VALUE=DATE:20260314
URL:https://sumasmountain.abbyschools.ca/events/report-cards-elemmiddle-lev
 els-3
SUMMARY:REPORT CARDS ELEM/MIDDLE LEVELS
CLASS:PUBLIC
X-MICROSOFT-CDO-ALLDAYEVENT:TRUE
DTSTAMP:20260423T171539Z
END:VEVENT
BEGIN:VEVENT
UID:69ea53bb274ef
DTSTART;VALUE=DATE:20260625
SEQUENCE:0
TRANSP:TRANSPARENT
DTEND;VALUE=DATE:20260626
URL:https://sumasmountain.abbyschools.ca/events/report-cards-elemmiddle-lev
 els-3
SUMMARY:REPORT CARDS ELEM/MIDDLE LEVELS
CLASS:PUBLIC
X-MICROSOFT-CDO-ALLDAYEVENT:TRUE
DTSTAMP:20260423T171539Z
END:VEVENT
BEGIN:VEVENT
UID:69ea53bb2c703
DTSTART;VALUE=DATE:20251217
SEQUENCE:0
TRANSP:TRANSPARENT
DTEND;VALUE=DATE:20251218
URL:https://sumasmountain.abbyschools.ca/events/report-cards-elemmiddle-lev
 els-3
SUMMARY:REPORT CARDS ELEM/MIDDLE LEVELS
CLASS:PUBLIC
X-MICROSOFT-CDO-ALLDAYEVENT:TRUE
DTSTAMP:20260423T171539Z
END:VEVENT
BEGIN:VEVENT
UID:69ea53bb30221
DTSTART;VALUE=DATE:20260313
SEQUENCE:0
TRANSP:TRANSPARENT
DTEND;VALUE=DATE:20260314
URL:https://sumasmountain.abbyschools.ca/events/report-cards-elemmiddle-lev
 els-3
SUMMARY:REPORT CARDS ELEM/MIDDLE LEVELS
CLASS:PUBLIC
X-MICROSOFT-CDO-ALLDAYEVENT:TRUE
DTSTAMP:20260423T171539Z
END:VEVENT
BEGIN:VEVENT
UID:69ea53bb3475b
DTSTART;VALUE=DATE:20260625
SEQUENCE:0
TRANSP:TRANSPARENT
DTEND;VALUE=DATE:20260626
URL:https://sumasmountain.abbyschools.ca/events/report-cards-elemmiddle-lev
 els-3
SUMMARY:REPORT CARDS ELEM/MIDDLE LEVELS
CLASS:PUBLIC
X-MICROSOFT-CDO-ALLDAYEVENT:TRUE
DTSTAMP:20260423T171539Z
END:VEVENT
BEGIN:VEVENT
UID:69ea53bb3a4f8
DTSTART;VALUE=DATE:20260206
SEQUENCE:0
TRANSP:TRANSPARENT
DTEND;VALUE=DATE:20260207
URL:https://sumasmountain.abbyschools.ca/events/report-cards-secondary-leve
 l-2
SUMMARY:REPORT CARDS - SECONDARY LEVEL
CLASS:PUBLIC
X-MICROSOFT-CDO-ALLDAYEVENT:TRUE
DTSTAMP:20260423T171539Z
END:VEVENT
BEGIN:VEVENT
UID:69ea53bb3c7a1
DTSTART;VALUE=DATE:20260626
SEQUENCE:0
TRANSP:TRANSPARENT
DTEND;VALUE=DATE:20260627
URL:https://sumasmountain.abbyschools.ca/events/report-cards-secondary-leve
 l-2
SUMMARY:REPORT CARDS - SECONDARY LEVEL
CLASS:PUBLIC
X-MICROSOFT-CDO-ALLDAYEVENT:TRUE
DTSTAMP:20260423T171539Z
END:VEVENT
BEGIN:VEVENT
UID:69ea53bb41195
DTSTART;VALUE=DATE:20260515
SEQUENCE:0
TRANSP:TRANSPARENT
DTEND;VALUE=DATE:20260516
URL:https://sumasmountain.abbyschools.ca/events/non-instructional-day-17
SUMMARY:NON-INSTRUCTIONAL DAY
CLASS:PUBLIC
X-MICROSOFT-CDO-ALLDAYEVENT:TRUE
DTSTAMP:20260423T171539Z
END:VEVENT
BEGIN:VEVENT
UID:69ea53bb45d36
DTSTART;VALUE=DATE:20260424
SEQUENCE:0
TRANSP:TRANSPARENT
DTEND;VALUE=DATE:20260425
URL:https://sumasmountain.abbyschools.ca/events/non-instructional-day-16
SUMMARY:NON-INSTRUCTIONAL DAY
CLASS:PUBLIC
X-MICROSOFT-CDO-ALLDAYEVENT:TRUE
DTSTAMP:20260423T171539Z
END:VEVENT
BEGIN:VEVENT
UID:69ea53bb488b2
DTSTART;TZID=America/Vancouver:20250925T190000
SEQUENCE:0
TRANSP:TRANSPARENT
DTEND;TZID=America/Vancouver:20250925T200000
URL:https://sumasmountain.abbyschools.ca/events/dpac-meeting-7
SUMMARY:DPAC MEETING
CLASS:PUBLIC
DTSTAMP:20260423T171539Z
END:VEVENT
BEGIN:VEVENT
UID:69ea53bb4b408
DTSTART;TZID=America/Vancouver:20251023T190000
SEQUENCE:0
TRANSP:TRANSPARENT
DTEND;TZID=America/Vancouver:20251023T190000
URL:https://sumasmountain.abbyschools.ca/events/dpac-meeting-7
SUMMARY:DPAC MEETING
CLASS:PUBLIC
DTSTAMP:20260423T171539Z
END:VEVENT
BEGIN:VEVENT
UID:69ea53bb4e4ba
DTSTART;TZID=America/Vancouver:20251127T190000
SEQUENCE:0
TRANSP:TRANSPARENT
DTEND;TZID=America/Vancouver:20251127T190000
URL:https://sumasmountain.abbyschools.ca/events/dpac-meeting-7
SUMMARY:DPAC MEETING
CLASS:PUBLIC
DTSTAMP:20260423T171539Z
END:VEVENT
BEGIN:VEVENT
UID:69ea53bb53a09
DTSTART;TZID=America/Vancouver:20260122T190000
SEQUENCE:0
TRANSP:TRANSPARENT
DTEND;TZID=America/Vancouver:20260122T200000
URL:https://sumasmountain.abbyschools.ca/events/dpac-meeting-7
SUMMARY:DPAC MEETING
CLASS:PUBLIC
DTSTAMP:20260423T171539Z
END:VEVENT
BEGIN:VEVENT
UID:69ea53bb5932e
DTSTART;TZID=America/Vancouver:20260226T190000
SEQUENCE:0
TRANSP:TRANSPARENT
DTEND;TZID=America/Vancouver:20260226T190000
URL:https://sumasmountain.abbyschools.ca/events/dpac-meeting-7
SUMMARY:DPAC MEETING
CLASS:PUBLIC
DTSTAMP:20260423T171539Z
END:VEVENT
BEGIN:VEVENT
UID:69ea53bb5b67b
DTSTART;TZID=America/Vancouver:20260423T190000
SEQUENCE:0
TRANSP:TRANSPARENT
DTEND;TZID=America/Vancouver:20260423T190000
URL:https://sumasmountain.abbyschools.ca/events/dpac-meeting-7
SUMMARY:DPAC MEETING
CLASS:PUBLIC
DTSTAMP:20260423T171539Z
END:VEVENT
BEGIN:VEVENT
UID:69ea53bb5d63c
DTSTART;TZID=America/Vancouver:20260528T190000
SEQUENCE:0
TRANSP:TRANSPARENT
DTEND;TZID=America/Vancouver:20260528T190000
URL:https://sumasmountain.abbyschools.ca/events/dpac-meeting-7
SUMMARY:DPAC MEETING
CLASS:PUBLIC
DTSTAMP:20260423T171539Z
END:VEVENT
BEGIN:VEVENT
UID:69ea53bb5ee62
DTSTART;TZID=America/Vancouver:20250925T190000
SEQUENCE:0
TRANSP:TRANSPARENT
DTEND;TZID=America/Vancouver:20250925T200000
URL:https://sumasmountain.abbyschools.ca/events/dpac-meeting-7
SUMMARY:DPAC MEETING
CLASS:PUBLIC
DTSTAMP:20260423T171539Z
END:VEVENT
BEGIN:VEVENT
UID:69ea53bb61136
DTSTART;TZID=America/Vancouver:20251023T190000
SEQUENCE:0
TRANSP:TRANSPARENT
DTEND;TZID=America/Vancouver:20251023T190000
URL:https://sumasmountain.abbyschools.ca/events/dpac-meeting-7
SUMMARY:DPAC MEETING
CLASS:PUBLIC
DTSTAMP:20260423T171539Z
END:VEVENT
BEGIN:VEVENT
UID:69ea53bb62db4
DTSTART;TZID=America/Vancouver:20251127T190000
SEQUENCE:0
TRANSP:TRANSPARENT
DTEND;TZID=America/Vancouver:20251127T190000
URL:https://sumasmountain.abbyschools.ca/events/dpac-meeting-7
SUMMARY:DPAC MEETING
CLASS:PUBLIC
DTSTAMP:20260423T171539Z
END:VEVENT
BEGIN:VEVENT
UID:69ea53bb65dec
DTSTART;TZID=America/Vancouver:20260122T190000
SEQUENCE:0
TRANSP:TRANSPARENT
DTEND;TZID=America/Vancouver:20260122T200000
URL:https://sumasmountain.abbyschools.ca/events/dpac-meeting-7
SUMMARY:DPAC MEETING
CLASS:PUBLIC
DTSTAMP:20260423T171539Z
END:VEVENT
BEGIN:VEVENT
UID:69ea53bb68460
DTSTART;TZID=America/Vancouver:20260226T190000
SEQUENCE:0
TRANSP:TRANSPARENT
DTEND;TZID=America/Vancouver:20260226T190000
URL:https://sumasmountain.abbyschools.ca/events/dpac-meeting-7
SUMMARY:DPAC MEETING
CLASS:PUBLIC
DTSTAMP:20260423T171539Z
END:VEVENT
BEGIN:VEVENT
UID:69ea53bb6a0ae
DTSTART;TZID=America/Vancouver:20260423T190000
SEQUENCE:0
TRANSP:TRANSPARENT
DTEND;TZID=America/Vancouver:20260423T190000
URL:https://sumasmountain.abbyschools.ca/events/dpac-meeting-7
SUMMARY:DPAC MEETING
CLASS:PUBLIC
DTSTAMP:20260423T171539Z
END:VEVENT
BEGIN:VEVENT
UID:69ea53bb6b634
DTSTART;TZID=America/Vancouver:20260528T190000
SEQUENCE:0
TRANSP:TRANSPARENT
DTEND;TZID=America/Vancouver:20260528T190000
URL:https://sumasmountain.abbyschools.ca/events/dpac-meeting-7
SUMMARY:DPAC MEETING
CLASS:PUBLIC
DTSTAMP:20260423T171539Z
END:VEVENT
BEGIN:VEVENT
UID:69ea53bb6d780
DTSTART;TZID=America/Vancouver:20250925T190000
SEQUENCE:0
TRANSP:TRANSPARENT
DTEND;TZID=America/Vancouver:20250925T200000
URL:https://sumasmountain.abbyschools.ca/events/dpac-meeting-7
SUMMARY:DPAC MEETING
CLASS:PUBLIC
DTSTAMP:20260423T171539Z
END:VEVENT
BEGIN:VEVENT
UID:69ea53bb6eca0
DTSTART;TZID=America/Vancouver:20251023T190000
SEQUENCE:0
TRANSP:TRANSPARENT
DTEND;TZID=America/Vancouver:20251023T190000
URL:https://sumasmountain.abbyschools.ca/events/dpac-meeting-7
SUMMARY:DPAC MEETING
CLASS:PUBLIC
DTSTAMP:20260423T171539Z
END:VEVENT
BEGIN:VEVENT
UID:69ea53bb70374
DTSTART;TZID=America/Vancouver:20251127T190000
SEQUENCE:0
TRANSP:TRANSPARENT
DTEND;TZID=America/Vancouver:20251127T190000
URL:https://sumasmountain.abbyschools.ca/events/dpac-meeting-7
SUMMARY:DPAC MEETING
CLASS:PUBLIC
DTSTAMP:20260423T171539Z
END:VEVENT
BEGIN:VEVENT
UID:69ea53bb722a0
DTSTART;TZID=America/Vancouver:20260122T190000
SEQUENCE:0
TRANSP:TRANSPARENT
DTEND;TZID=America/Vancouver:20260122T200000
URL:https://sumasmountain.abbyschools.ca/events/dpac-meeting-7
SUMMARY:DPAC MEETING
CLASS:PUBLIC
DTSTAMP:20260423T171539Z
END:VEVENT
BEGIN:VEVENT
UID:69ea53bb73920
DTSTART;TZID=America/Vancouver:20260226T190000
SEQUENCE:0
TRANSP:TRANSPARENT
DTEND;TZID=America/Vancouver:20260226T190000
URL:https://sumasmountain.abbyschools.ca/events/dpac-meeting-7
SUMMARY:DPAC MEETING
CLASS:PUBLIC
DTSTAMP:20260423T171539Z
END:VEVENT
BEGIN:VEVENT
UID:69ea53bb74dc0
DTSTART;TZID=America/Vancouver:20260423T190000
SEQUENCE:0
TRANSP:TRANSPARENT
DTEND;TZID=America/Vancouver:20260423T190000
URL:https://sumasmountain.abbyschools.ca/events/dpac-meeting-7
SUMMARY:DPAC MEETING
CLASS:PUBLIC
DTSTAMP:20260423T171539Z
END:VEVENT
BEGIN:VEVENT
UID:69ea53bb76624
DTSTART;TZID=America/Vancouver:20260528T190000
SEQUENCE:0
TRANSP:TRANSPARENT
DTEND;TZID=America/Vancouver:20260528T190000
URL:https://sumasmountain.abbyschools.ca/events/dpac-meeting-7
SUMMARY:DPAC MEETING
CLASS:PUBLIC
DTSTAMP:20260423T171539Z
END:VEVENT
BEGIN:VEVENT
UID:69ea53bb787aa
DTSTART;VALUE=DATE:20260518
SEQUENCE:0
TRANSP:TRANSPARENT
DTEND;VALUE=DATE:20260519
URL:https://sumasmountain.abbyschools.ca/events/victoria-day-3
SUMMARY:VICTORIA DAY
CLASS:PUBLIC
X-MICROSOFT-CDO-ALLDAYEVENT:TRUE
DTSTAMP:20260423T171539Z
END:VEVENT
BEGIN:VEVENT
UID:69ea53bb7a8b8
DTSTART;VALUE=DATE:20260403
SEQUENCE:0
TRANSP:TRANSPARENT
DTEND;VALUE=DATE:20260407
URL:https://sumasmountain.abbyschools.ca/events/easter-weekend
SUMMARY:EASTER WEEKEND
CLASS:PUBLIC
X-MICROSOFT-CDO-ALLDAYEVENT:TRUE
DTSTAMP:20260423T171539Z
END:VEVENT
BEGIN:VEVENT
UID:69ea53bb7cc1e
DTSTART;VALUE=DATE:20250701
SEQUENCE:0
TRANSP:TRANSPARENT
DTEND;VALUE=DATE:20250702
URL:https://sumasmountain.abbyschools.ca/events/canada-day-11
SUMMARY:CANADA DAY
CLASS:PUBLIC
X-MICROSOFT-CDO-ALLDAYEVENT:TRUE
DTSTAMP:20260423T171539Z
END:VEVENT
BEGIN:VEVENT
UID:69ea53bb7e411
DTSTART;VALUE=DATE:20260701
SEQUENCE:0
TRANSP:TRANSPARENT
DTEND;VALUE=DATE:20260702
URL:https://sumasmountain.abbyschools.ca/events/canada-day-11
SUMMARY:CANADA DAY
CLASS:PUBLIC
X-MICROSOFT-CDO-ALLDAYEVENT:TRUE
DTSTAMP:20260423T171539Z
END:VEVENT
END:VCALENDAR